BEGIN:VCALENDAR
VERSION:2.0
PRODID:-//pretix//pretix-PROD_Wien//
BEGIN:VEVENT
UID:pretix-baeder-theresienbad-79541@ticket.wien.gv.at
DTSTART;VALUE=DATE:20260311
DTEND;VALUE=DATE:20260312
DESCRIPTION:Tickets: https://ticket.wien.gv.at/baeder/theresienbad/79541/\n
 Veranstalter: MA 44 Wiener Bäder
DTSTAMP:20260426T000029Z
SUMMARY:Badegäste Frühschwimmen
END:VEVENT
END:VCALENDAR
