BEGIN:VCALENDAR
VERSION:2.0
PRODID:-//pretix//pretix-PROD_Wien//
BEGIN:VEVENT
UID:pretix-baeder-theresienbad-79346@ticket.wien.gv.at
DTSTART;VALUE=DATE:20260304
DTEND;VALUE=DATE:20260305
DESCRIPTION:Tickets: https://ticket.wien.gv.at/baeder/theresienbad/79346/\n
 Veranstalter: MA 44 Wiener Bäder
DTSTAMP:20260425T190853Z
SUMMARY:Badegäste Frühschwimmen
END:VEVENT
END:VCALENDAR
