BEGIN:VCALENDAR
VERSION:2.0
PRODID:-//pretix//pretix-PROD_Wien//
BEGIN:VEVENT
UID:pretix-baeder-theresienbad-77358@ticket.wien.gv.at
DTSTART;VALUE=DATE:20260124
DTEND;VALUE=DATE:20260125
DESCRIPTION:Tickets: https://ticket.wien.gv.at/baeder/theresienbad/77358/\n
 Veranstalter: MA 44 Wiener Bäder
DTSTAMP:20260425T170757Z
SUMMARY:Badegäste Sa.
END:VEVENT
END:VCALENDAR
