BEGIN:VCALENDAR
VERSION:2.0
PRODID:-//pretix//pretix-PROD_Wien//
BEGIN:VEVENT
UID:pretix-baeder-theresienbad-77184@ticket.wien.gv.at
DTSTART;VALUE=DATE:20260117
DTEND;VALUE=DATE:20260118
DESCRIPTION:Tickets: https://ticket.wien.gv.at/baeder/theresienbad/77184/\n
 Veranstalter: MA 44 Wiener Bäder
DTSTAMP:20260425T201054Z
SUMMARY:Badegäste Sa.
END:VEVENT
END:VCALENDAR
