BEGIN:VCALENDAR
VERSION:2.0
PRODID:-//pretix//pretix-PROD_Wien//
BEGIN:VEVENT
UID:pretix-baeder-theresienbad-75101@ticket.wien.gv.at
DTSTART;VALUE=DATE:20251205
DTEND;VALUE=DATE:20251206
DESCRIPTION:Tickets: https://ticket.wien.gv.at/baeder/theresienbad/75101/\n
 Veranstalter: MA 44 Wiener Bäder
DTSTAMP:20260426T003605Z
SUMMARY:Badegäste Fr.
END:VEVENT
END:VCALENDAR
