BEGIN:VCALENDAR
VERSION:2.0
PRODID:-//pretix//pretix-PROD_Wien//
BEGIN:VEVENT
UID:pretix-baeder-theresienbad-74255@ticket.wien.gv.at
DTSTART;VALUE=DATE:20251130
DTEND;VALUE=DATE:20251201
DESCRIPTION:Tickets: https://ticket.wien.gv.at/baeder/theresienbad/74255/\n
 Veranstalter: MA 44 Wiener Bäder
DTSTAMP:20260425T221535Z
SUMMARY:Badegäste So.
END:VEVENT
END:VCALENDAR
