BEGIN:VCALENDAR
VERSION:2.0
PRODID:-//pretix//pretix-PROD_Wien//
BEGIN:VEVENT
UID:pretix-baeder-theresienbad-74244@ticket.wien.gv.at
DTSTART;VALUE=DATE:20251129
DTEND;VALUE=DATE:20251130
DESCRIPTION:Tickets: https://ticket.wien.gv.at/baeder/theresienbad/74244/\n
 Veranstalter: MA 44 Wiener Bäder
DTSTAMP:20260425T202632Z
SUMMARY:Badegäste Sa.
END:VEVENT
END:VCALENDAR
