BEGIN:VCALENDAR
VERSION:2.0
PRODID:-//pretix//pretix-PROD_Wien//
BEGIN:VEVENT
UID:pretix-baeder-theresienbad-7413@ticket.wien.gv.at
DTSTART;VALUE=DATE:20211001
DTEND;VALUE=DATE:20211002
DESCRIPTION:Tickets: https://ticket.wien.gv.at/baeder/theresienbad/7413/\nV
 eranstalter: MA 44 Wiener Bäder
DTSTAMP:20260425T170802Z
SUMMARY:Eintritt Theresienbad
END:VEVENT
END:VCALENDAR
