BEGIN:VCALENDAR
VERSION:2.0
PRODID:-//pretix//pretix-PROD_Wien//
BEGIN:VEVENT
UID:pretix-baeder-theresienbad-74108@ticket.wien.gv.at
DTSTART;VALUE=DATE:20251123
DTEND;VALUE=DATE:20251124
DESCRIPTION:Tickets: https://ticket.wien.gv.at/baeder/theresienbad/74108/\n
 Veranstalter: MA 44 Wiener Bäder
DTSTAMP:20260425T185336Z
SUMMARY:Badegäste So.
END:VEVENT
END:VCALENDAR
