BEGIN:VCALENDAR
VERSION:2.0
PRODID:-//pretix//pretix-PROD_Wien//
BEGIN:VEVENT
UID:pretix-baeder-theresienbad-74059@ticket.wien.gv.at
DTSTART;VALUE=DATE:20251121
DTEND;VALUE=DATE:20251122
DESCRIPTION:Tickets: https://ticket.wien.gv.at/baeder/theresienbad/74059/\n
 Veranstalter: MA 44 Wiener Bäder
DTSTAMP:20260425T225420Z
SUMMARY:Badegäste Fr.
END:VEVENT
END:VCALENDAR
