BEGIN:VCALENDAR
VERSION:2.0
PRODID:-//pretix//pretix-PROD_Wien//
BEGIN:VEVENT
UID:pretix-baeder-theresienbad-73928@ticket.wien.gv.at
DTSTART;VALUE=DATE:20251115
DTEND;VALUE=DATE:20251116
DESCRIPTION:Tickets: https://ticket.wien.gv.at/baeder/theresienbad/73928/\n
 Veranstalter: MA 44 Wiener Bäder
DTSTAMP:20260425T205602Z
SUMMARY:Badegäste Sa.
END:VEVENT
END:VCALENDAR
