BEGIN:VCALENDAR
VERSION:2.0
PRODID:-//pretix//pretix-PROD_Wien//
BEGIN:VEVENT
UID:pretix-baeder-theresienbad-73873@ticket.wien.gv.at
DTSTART;VALUE=DATE:20251112
DTEND;VALUE=DATE:20251113
DESCRIPTION:Tickets: https://ticket.wien.gv.at/baeder/theresienbad/73873/\n
 Veranstalter: MA 44 Wiener Bäder
DTSTAMP:20260426T000028Z
SUMMARY:Badegäste Mi.
END:VEVENT
END:VCALENDAR
