BEGIN:VCALENDAR
VERSION:2.0
PRODID:-//pretix//pretix-PROD_Wien//
BEGIN:VEVENT
UID:pretix-baeder-theresienbad-7357@ticket.wien.gv.at
DTSTART;VALUE=DATE:20210929
DTEND;VALUE=DATE:20210930
DESCRIPTION:Tickets: https://ticket.wien.gv.at/baeder/theresienbad/7357/\nV
 eranstalter: MA 44 Wiener Bäder
DTSTAMP:20260425T202635Z
SUMMARY:Eintritt Theresienbad
END:VEVENT
END:VCALENDAR
