BEGIN:VCALENDAR
VERSION:2.0
PRODID:-//pretix//pretix-PROD_Wien//
BEGIN:VEVENT
UID:pretix-baeder-theresienbad-73179@ticket.wien.gv.at
DTSTART;VALUE=DATE:20251106
DTEND;VALUE=DATE:20251107
DESCRIPTION:Tickets: https://ticket.wien.gv.at/baeder/theresienbad/73179/\n
 Veranstalter: MA 44 Wiener Bäder
DTSTAMP:20260425T225422Z
SUMMARY:Badegäste Di./Do.
END:VEVENT
END:VCALENDAR
