BEGIN:VCALENDAR
VERSION:2.0
PRODID:-//pretix//pretix-PROD_Wien//
BEGIN:VEVENT
UID:pretix-baeder-theresienbad-73080@ticket.wien.gv.at
DTSTART;VALUE=DATE:20251101
DTEND;VALUE=DATE:20251102
DESCRIPTION:Tickets: https://ticket.wien.gv.at/baeder/theresienbad/73080/\n
 Veranstalter: MA 44 Wiener Bäder
DTSTAMP:20260425T170800Z
SUMMARY:Badegäste Ferien 01.11.2025
END:VEVENT
END:VCALENDAR
