BEGIN:VCALENDAR
VERSION:2.0
PRODID:-//pretix//pretix-PROD_Wien//
BEGIN:VEVENT
UID:pretix-baeder-theresienbad-73076@ticket.wien.gv.at
DTSTART;VALUE=DATE:20251031
DTEND;VALUE=DATE:20251101
DESCRIPTION:Tickets: https://ticket.wien.gv.at/baeder/theresienbad/73076/\n
 Veranstalter: MA 44 Wiener Bäder
DTSTAMP:20260425T163545Z
SUMMARY:Badegäste Ferien 31.10.2025
END:VEVENT
END:VCALENDAR
