BEGIN:VCALENDAR
VERSION:2.0
PRODID:-//pretix//pretix-PROD_Wien//
BEGIN:VEVENT
UID:pretix-baeder-theresienbad-72907@ticket.wien.gv.at
DTSTART;VALUE=DATE:20251025
DTEND;VALUE=DATE:20251026
DESCRIPTION:Tickets: https://ticket.wien.gv.at/baeder/theresienbad/72907/\n
 Veranstalter: MA 44 Wiener Bäder
DTSTAMP:20260425T205545Z
SUMMARY:Badegäste Ferien 25.10.2025
END:VEVENT
END:VCALENDAR
