BEGIN:VCALENDAR
VERSION:2.0
PRODID:-//pretix//pretix-PROD_Wien//
BEGIN:VEVENT
UID:pretix-baeder-theresienbad-72263@ticket.wien.gv.at
DTSTART;VALUE=DATE:20251001
DTEND;VALUE=DATE:20251002
DESCRIPTION:Tickets: https://ticket.wien.gv.at/baeder/theresienbad/72263/\n
 Veranstalter: MA 44 Wiener Bäder
DTSTAMP:20260426T011411Z
SUMMARY:Badegäste Mi.
END:VEVENT
END:VCALENDAR
