BEGIN:VCALENDAR
VERSION:2.0
PRODID:-//pretix//pretix-PROD_Wien//
BEGIN:VEVENT
UID:pretix-baeder-theresienbad-72229@ticket.wien.gv.at
DTSTART;VALUE=DATE:20250928
DTEND;VALUE=DATE:20250929
DESCRIPTION:Tickets: https://ticket.wien.gv.at/baeder/theresienbad/72229/\n
 Veranstalter: MA 44 Wiener Bäder
DTSTAMP:20260425T170757Z
SUMMARY:Badegäste So.
END:VEVENT
END:VCALENDAR
