BEGIN:VCALENDAR
VERSION:2.0
PRODID:-//pretix//pretix-PROD_Wien//
BEGIN:VEVENT
UID:pretix-baeder-theresienbad-72215@ticket.wien.gv.at
DTSTART;VALUE=DATE:20250927
DTEND;VALUE=DATE:20250928
DESCRIPTION:Tickets: https://ticket.wien.gv.at/baeder/theresienbad/72215/\n
 Veranstalter: MA 44 Wiener Bäder
DTSTAMP:20260425T215658Z
SUMMARY:Badegäste Sa.
END:VEVENT
END:VCALENDAR
