BEGIN:VCALENDAR
VERSION:2.0
PRODID:-//pretix//pretix-PROD_Wien//
BEGIN:VEVENT
UID:pretix-baeder-theresienbad-72206@ticket.wien.gv.at
DTSTART;VALUE=DATE:20250926
DTEND;VALUE=DATE:20250927
DESCRIPTION:Tickets: https://ticket.wien.gv.at/baeder/theresienbad/72206/\n
 Veranstalter: MA 44 Wiener Bäder
DTSTAMP:20260426T000028Z
SUMMARY:Badegäste Fr.
END:VEVENT
END:VCALENDAR
