BEGIN:VCALENDAR
VERSION:2.0
PRODID:-//pretix//pretix-PROD_Wien//
BEGIN:VEVENT
UID:pretix-baeder-theresienbad-7207@ticket.wien.gv.at
DTSTART;VALUE=DATE:20210922
DTEND;VALUE=DATE:20210923
DESCRIPTION:Tickets: https://ticket.wien.gv.at/baeder/theresienbad/7207/\nV
 eranstalter: MA 44 Wiener Bäder
DTSTAMP:20260425T163511Z
SUMMARY:Eintritt Theresienbad
END:VEVENT
END:VCALENDAR
