BEGIN:VCALENDAR
VERSION:2.0
PRODID:-//pretix//pretix-PROD_Wien//
BEGIN:VEVENT
UID:pretix-baeder-theresienbad-72040@ticket.wien.gv.at
DTSTART;VALUE=DATE:20250924
DTEND;VALUE=DATE:20250925
DESCRIPTION:Tickets: https://ticket.wien.gv.at/baeder/theresienbad/72040/\n
 Veranstalter: MA 44 Wiener Bäder
DTSTAMP:20260425T215826Z
SUMMARY:Badegäste Mi.
END:VEVENT
END:VCALENDAR
