BEGIN:VCALENDAR
VERSION:2.0
PRODID:-//pretix//pretix-PROD_Wien//
BEGIN:VEVENT
UID:pretix-baeder-theresienbad-72029@ticket.wien.gv.at
DTSTART;VALUE=DATE:20250923
DTEND;VALUE=DATE:20250924
DESCRIPTION:Tickets: https://ticket.wien.gv.at/baeder/theresienbad/72029/\n
 Veranstalter: MA 44 Wiener Bäder
DTSTAMP:20260425T221535Z
SUMMARY:Badegäste Di./Do.
END:VEVENT
END:VCALENDAR
