BEGIN:VCALENDAR
VERSION:2.0
PRODID:-//pretix//pretix-PROD_Wien//
BEGIN:VEVENT
UID:pretix-baeder-theresienbad-71976@ticket.wien.gv.at
DTSTART;VALUE=DATE:20250921
DTEND;VALUE=DATE:20250922
DESCRIPTION:Tickets: https://ticket.wien.gv.at/baeder/theresienbad/71976/\n
 Veranstalter: MA 44 Wiener Bäder
DTSTAMP:20260426T003603Z
SUMMARY:Badegäste So.
END:VEVENT
END:VCALENDAR
