BEGIN:VCALENDAR
VERSION:2.0
PRODID:-//pretix//pretix-PROD_Wien//
BEGIN:VEVENT
UID:pretix-baeder-theresienbad-71957@ticket.wien.gv.at
DTSTART;VALUE=DATE:20250919
DTEND;VALUE=DATE:20250920
DESCRIPTION:Tickets: https://ticket.wien.gv.at/baeder/theresienbad/71957/\n
 Veranstalter: MA 44 Wiener Bäder
DTSTAMP:20260425T190845Z
SUMMARY:Badegäste Fr.
END:VEVENT
END:VCALENDAR
