BEGIN:VCALENDAR
VERSION:2.0
PRODID:-//pretix//pretix-PROD_Wien//
BEGIN:VEVENT
UID:pretix-baeder-theresienbad-71619@ticket.wien.gv.at
DTSTART;VALUE=DATE:20250906
DTEND;VALUE=DATE:20250907
DESCRIPTION:Tickets: https://ticket.wien.gv.at/baeder/theresienbad/71619/\n
 Veranstalter: MA 44 Wiener Bäder
DTSTAMP:20260425T225422Z
SUMMARY:Badegäste Freibad Mo-So
END:VEVENT
END:VCALENDAR
