BEGIN:VCALENDAR
VERSION:2.0
PRODID:-//pretix//pretix-PROD_Wien//
BEGIN:VEVENT
UID:pretix-baeder-theresienbad-70571@ticket.wien.gv.at
DTSTART;VALUE=DATE:20250829
DTEND;VALUE=DATE:20250830
DESCRIPTION:Tickets: https://ticket.wien.gv.at/baeder/theresienbad/70571/\n
 Veranstalter: MA 44 Wiener Bäder
DTSTAMP:20260425T190851Z
SUMMARY:Badegäste Freibad Mo-So
END:VEVENT
END:VCALENDAR
