BEGIN:VCALENDAR
VERSION:2.0
PRODID:-//pretix//pretix-PROD_Wien//
BEGIN:VEVENT
UID:pretix-baeder-theresienbad-70482@ticket.wien.gv.at
DTSTART;VALUE=DATE:20250825
DTEND;VALUE=DATE:20250826
DESCRIPTION:Tickets: https://ticket.wien.gv.at/baeder/theresienbad/70482/\n
 Veranstalter: MA 44 Wiener Bäder
DTSTAMP:20260425T163511Z
SUMMARY:Badegäste Freibad Mo-So
END:VEVENT
END:VCALENDAR
