BEGIN:VCALENDAR
VERSION:2.0
PRODID:-//pretix//pretix-PROD_Wien//
BEGIN:VEVENT
UID:pretix-baeder-theresienbad-69867@ticket.wien.gv.at
DTSTART;VALUE=DATE:20250804
DTEND;VALUE=DATE:20250805
DESCRIPTION:Tickets: https://ticket.wien.gv.at/baeder/theresienbad/69867/\n
 Veranstalter: MA 44 Wiener Bäder
DTSTAMP:20260425T215824Z
SUMMARY:Badegäste Freibad Mo-So
END:VEVENT
END:VCALENDAR
