BEGIN:VCALENDAR
VERSION:2.0
PRODID:-//pretix//pretix-PROD_Wien//
BEGIN:VEVENT
UID:pretix-baeder-theresienbad-68930@ticket.wien.gv.at
DTSTART;VALUE=DATE:20250716
DTEND;VALUE=DATE:20250717
DESCRIPTION:Tickets: https://ticket.wien.gv.at/baeder/theresienbad/68930/\n
 Veranstalter: MA 44 Wiener Bäder
DTSTAMP:20260425T215821Z
SUMMARY:Badegäste Freibad Mo-So
END:VEVENT
END:VCALENDAR
