BEGIN:VCALENDAR
VERSION:2.0
PRODID:-//pretix//pretix-PROD_Wien//
BEGIN:VEVENT
UID:pretix-baeder-theresienbad-68744@ticket.wien.gv.at
DTSTART;VALUE=DATE:20250711
DTEND;VALUE=DATE:20250712
DESCRIPTION:Tickets: https://ticket.wien.gv.at/baeder/theresienbad/68744/\n
 Veranstalter: MA 44 Wiener Bäder
DTSTAMP:20260425T170843Z
SUMMARY:Badegäste Freibad Mo-So
END:VEVENT
END:VCALENDAR
