BEGIN:VCALENDAR
VERSION:2.0
PRODID:-//pretix//pretix-PROD_Wien//
BEGIN:VEVENT
UID:pretix-baeder-theresienbad-68648@ticket.wien.gv.at
DTSTART;VALUE=DATE:20250707
DTEND;VALUE=DATE:20250708
DESCRIPTION:Tickets: https://ticket.wien.gv.at/baeder/theresienbad/68648/\n
 Veranstalter: MA 44 Wiener Bäder
DTSTAMP:20260426T003604Z
SUMMARY:Badegäste Freibad Mo-So
END:VEVENT
END:VCALENDAR
