BEGIN:VCALENDAR
VERSION:2.0
PRODID:-//pretix//pretix-PROD_Wien//
BEGIN:VEVENT
UID:pretix-baeder-theresienbad-6740@ticket.wien.gv.at
DTSTART;VALUE=DATE:20210905
DTEND;VALUE=DATE:20210906
DESCRIPTION:Tickets: https://ticket.wien.gv.at/baeder/theresienbad/6740/\nV
 eranstalter: MA 44 Wiener Bäder
DTSTAMP:20260425T215825Z
SUMMARY:Eintritt Theresienbad
END:VEVENT
END:VCALENDAR
