BEGIN:VCALENDAR
VERSION:2.0
PRODID:-//pretix//pretix-PROD_Wien//
BEGIN:VEVENT
UID:pretix-baeder-theresienbad-67096@ticket.wien.gv.at
DTSTART;VALUE=DATE:20250609
DTEND;VALUE=DATE:20250610
DESCRIPTION:Tickets: https://ticket.wien.gv.at/baeder/theresienbad/67096/\n
 Veranstalter: MA 44 Wiener Bäder
DTSTAMP:20260426T014259Z
SUMMARY:Badegäste Freibad Mo-So
END:VEVENT
END:VCALENDAR
