BEGIN:VCALENDAR
VERSION:2.0
PRODID:-//pretix//pretix-PROD_Wien//
BEGIN:VEVENT
UID:pretix-baeder-theresienbad-66468@ticket.wien.gv.at
DTSTART;VALUE=DATE:20250528
DTEND;VALUE=DATE:20250529
DESCRIPTION:Tickets: https://ticket.wien.gv.at/baeder/theresienbad/66468/\n
 Veranstalter: MA 44 Wiener Bäder
DTSTAMP:20260425T212454Z
SUMMARY:Badegäste Freibad Mo-So
END:VEVENT
END:VCALENDAR
