BEGIN:VCALENDAR
VERSION:2.0
PRODID:-//pretix//pretix-PROD_Wien//
BEGIN:VEVENT
UID:pretix-baeder-theresienbad-6519@ticket.wien.gv.at
DTSTART;VALUE=DATE:20210826
DTEND;VALUE=DATE:20210827
DESCRIPTION:Tickets: https://ticket.wien.gv.at/baeder/theresienbad/6519/\nV
 eranstalter: MA 44 Wiener Bäder
DTSTAMP:20260425T215822Z
SUMMARY:Eintritt Theresienbad
END:VEVENT
END:VCALENDAR
