BEGIN:VCALENDAR
VERSION:2.0
PRODID:-//pretix//pretix-PROD_Wien//
BEGIN:VEVENT
UID:pretix-baeder-theresienbad-64878@ticket.wien.gv.at
DTSTART;VALUE=DATE:20250507
DTEND;VALUE=DATE:20250508
DESCRIPTION:Tickets: https://ticket.wien.gv.at/baeder/theresienbad/64878/\n
 Veranstalter: MA 44 Wiener Bäder
DTSTAMP:20260425T221530Z
SUMMARY:Badegäste Freibad Mo-So
END:VEVENT
END:VCALENDAR
