BEGIN:VCALENDAR
VERSION:2.0
PRODID:-//pretix//pretix-PROD_Wien//
BEGIN:VEVENT
UID:pretix-baeder-theresienbad-6432@ticket.wien.gv.at
DTSTART;VALUE=DATE:20210822
DTEND;VALUE=DATE:20210823
DESCRIPTION:Tickets: https://ticket.wien.gv.at/baeder/theresienbad/6432/\nV
 eranstalter: MA 44 Wiener Bäder
DTSTAMP:20260426T000029Z
SUMMARY:Eintritt Theresienbad
END:VEVENT
END:VCALENDAR
