BEGIN:VCALENDAR
VERSION:2.0
PRODID:-//pretix//pretix-PROD_Wien//
BEGIN:VEVENT
UID:pretix-baeder-theresienbad-5815@ticket.wien.gv.at
DTSTART;VALUE=DATE:20210725
DTEND;VALUE=DATE:20210726
DESCRIPTION:Tickets: https://ticket.wien.gv.at/baeder/theresienbad/5815/\nV
 eranstalter: MA 44 Wiener Bäder
DTSTAMP:20260426T003604Z
SUMMARY:Eintritt Theresienbad
END:VEVENT
END:VCALENDAR
