BEGIN:VCALENDAR
VERSION:2.0
PRODID:-//pretix//pretix-PROD_Wien//
BEGIN:VEVENT
UID:pretix-baeder-theresienbad-5486@ticket.wien.gv.at
DTSTART;VALUE=DATE:20210710
DTEND;VALUE=DATE:20210711
DESCRIPTION:Tickets: https://ticket.wien.gv.at/baeder/theresienbad/5486/\nV
 eranstalter: MA 44 Wiener Bäder
DTSTAMP:20260425T163545Z
SUMMARY:Eintritt Theresienbad
END:VEVENT
END:VCALENDAR
