BEGIN:VCALENDAR
VERSION:2.0
PRODID:-//pretix//pretix-PROD_Wien//
BEGIN:VEVENT
UID:pretix-baeder-theresienbad-4911@ticket.wien.gv.at
DTSTART;VALUE=DATE:20210614
DTEND;VALUE=DATE:20210615
DESCRIPTION:Tickets: https://ticket.wien.gv.at/baeder/theresienbad/4911/\nV
 eranstalter: MA 44 Wiener Bäder
DTSTAMP:20260425T170844Z
SUMMARY:Eintritt Theresienbad
END:VEVENT
END:VCALENDAR
