BEGIN:VCALENDAR
VERSION:2.0
PRODID:-//pretix//pretix-PROD_Wien//
BEGIN:VEVENT
UID:pretix-baeder-theresienbad-4824@ticket.wien.gv.at
DTSTART;VALUE=DATE:20210610
DTEND;VALUE=DATE:20210611
DESCRIPTION:Tickets: https://ticket.wien.gv.at/baeder/theresienbad/4824/\nV
 eranstalter: MA 44 Wiener Bäder
DTSTAMP:20260425T163508Z
SUMMARY:Eintritt Theresienbad
END:VEVENT
END:VCALENDAR
