BEGIN:VCALENDAR
VERSION:2.0
PRODID:-//pretix//pretix-PROD_Wien//
BEGIN:VEVENT
UID:pretix-baeder-theresienbad-4445@ticket.wien.gv.at
DTSTART;VALUE=DATE:20210524
DTEND;VALUE=DATE:20210525
DESCRIPTION:Tickets: https://ticket.wien.gv.at/baeder/theresienbad/4445/\nV
 eranstalter: MA 44 Wiener Bäder
DTSTAMP:20260423T061450Z
SUMMARY:Eintritt Theresienbad
END:VEVENT
END:VCALENDAR
