BEGIN:VCALENDAR
VERSION:2.0
PRODID:-//pretix//pretix-PROD_Wien//
BEGIN:VEVENT
UID:pretix-baeder-theresienbad-4268@ticket.wien.gv.at
DTSTART;VALUE=DATE:20210514
DTEND;VALUE=DATE:20210515
DESCRIPTION:Tickets: https://ticket.wien.gv.at/baeder/theresienbad/4268/\nV
 eranstalter: MA 44 Wiener Bäder
DTSTAMP:20260425T185338Z
SUMMARY:Friday
END:VEVENT
END:VCALENDAR
