BEGIN:VCALENDAR
VERSION:2.0
PRODID:-//pretix//pretix-PROD_Wien//
BEGIN:VEVENT
UID:pretix-baeder-theresienbad-20715@ticket.wien.gv.at
DTSTART;VALUE=DATE:20220313
DTEND;VALUE=DATE:20220314
DESCRIPTION:Tickets: https://ticket.wien.gv.at/baeder/theresienbad/20715/\n
 Veranstalter: MA 44 Wiener Bäder
DTSTAMP:20260425T225423Z
SUMMARY:Badegäste So.
END:VEVENT
END:VCALENDAR
