BEGIN:VCALENDAR
VERSION:2.0
PRODID:-//pretix//pretix-PROD_Wien//
BEGIN:VEVENT
UID:pretix-baeder-theresienbad-20559@ticket.wien.gv.at
DTSTART;VALUE=DATE:20220303
DTEND;VALUE=DATE:20220304
DESCRIPTION:Tickets: https://ticket.wien.gv.at/baeder/theresienbad/20559/\n
 Veranstalter: MA 44 Wiener Bäder
DTSTAMP:20260425T185337Z
SUMMARY:Badegäste Di./Do.
END:VEVENT
END:VCALENDAR
