BEGIN:VCALENDAR
VERSION:2.0
PRODID:-//pretix//pretix-PROD_Wien//
BEGIN:VEVENT
UID:pretix-baeder-theresienbad-20496@ticket.wien.gv.at
DTSTART;VALUE=DATE:20220227
DTEND;VALUE=DATE:20220228
DESCRIPTION:Tickets: https://ticket.wien.gv.at/baeder/theresienbad/20496/\n
 Veranstalter: MA 44 Wiener Bäder
DTSTAMP:20260425T215655Z
SUMMARY:Badegäste So.
END:VEVENT
END:VCALENDAR
