BEGIN:VCALENDAR
VERSION:2.0
PRODID:-//pretix//pretix-PROD_Wien//
BEGIN:VEVENT
UID:pretix-baeder-theresienbad-20451@ticket.wien.gv.at
DTSTART;VALUE=DATE:20220224
DTEND;VALUE=DATE:20220225
DESCRIPTION:Tickets: https://ticket.wien.gv.at/baeder/theresienbad/20451/\n
 Veranstalter: MA 44 Wiener Bäder
DTSTAMP:20260425T215822Z
SUMMARY:Badegäste Di./Do.
END:VEVENT
END:VCALENDAR
