BEGIN:VCALENDAR
VERSION:2.0
PRODID:-//pretix//pretix-PROD_Wien//
BEGIN:VEVENT
UID:pretix-baeder-theresienbad-20234@ticket.wien.gv.at
DTSTART;VALUE=DATE:20220209
DTEND;VALUE=DATE:20220210
DESCRIPTION:Tickets: https://ticket.wien.gv.at/baeder/theresienbad/20234/\n
 Veranstalter: MA 44 Wiener Bäder
DTSTAMP:20260426T015143Z
SUMMARY:Badegäste Ferien
END:VEVENT
END:VCALENDAR
